BEGIN:VCALENDAR
VERSION:2.0
PRODID:-//StyleBlueprint//Events//EN
CALSCALE:GREGORIAN
METHOD:PUBLISH
BEGIN:VEVENT
UID:sb-event-873505-20260815@styleblueprint.com
DTSTART:20260815T200000Z
DTEND:20260816T020000Z
SUMMARY:Sip TN Wine Experience: Townsend
DESCRIPTION:Enjoy a scenic afternoon at the Sip TN Wine Experience\, set against the br
 eathtaking backdrop of hot air balloons and [&hellip\;]
URL:https://styleblueprint.com/events/sip-tn-wine-experience-townsend/
LOCATION:Townsend Visitors Center\, 7930 East Lamar Alexander Parkway
END:VEVENT
END:VCALENDAR