BEGIN:VCALENDAR
VERSION:2.0
PRODID:-//StyleBlueprint//Events//EN
CALSCALE:GREGORIAN
METHOD:PUBLISH
BEGIN:VEVENT
UID:sb-event-873500-20260425@styleblueprint.com
DTSTART:20260425T170000Z
DTEND:20260425T220000Z
SUMMARY:Sip The Foothills Wine Festival
DESCRIPTION:Spend the afternoon at the Sip The Foothills Wine Festival\, a celebration 
 of Tennessee’s local culture featuring wineries\, food trucks\, [&hellip\
 ;]
URL:https://styleblueprint.com/events/sip-the-foothills-wine-festival/
LOCATION:Pellissippi State Community College\, Blount County Campus\, 2731 W Lamar A
 lexander Pwky
END:VEVENT
END:VCALENDAR