BEGIN:VCALENDAR
VERSION:2.0
PRODID:-//StyleBlueprint//Events//EN
CALSCALE:GREGORIAN
METHOD:PUBLISH
BEGIN:VEVENT
UID:sb-event-870932-20260417@styleblueprint.com
DTSTART:20260417T130000Z
DTEND:20260418T190000Z
SUMMARY:Friends of Birmingham Botancial Gardens&#8217\; Spring Plant Sale
DESCRIPTION:A beloved annual event\, this sale offers hundreds of plants — from peren
 nials and shrubs to herbs\, vegetables\, and more [&hellip\;]
URL:https://styleblueprint.com/events/birmingham-botancial-gardens-spring-plant-sale/
LOCATION:Birmingham Botanical Gardens\, 2612 Lane Park Rd
END:VEVENT
END:VCALENDAR